BEGIN:VCALENDAR
VERSION:2.0
PRODID:-//Te Rau Ora - ECPv6.15.20//NONSGML v1.0//EN
CALSCALE:GREGORIAN
METHOD:PUBLISH
X-ORIGINAL-URL:https://terauora.com
X-WR-CALDESC:Events for Te Rau Ora
REFRESH-INTERVAL;VALUE=DURATION:PT1H
X-Robots-Tag:noindex
X-PUBLISHED-TTL:PT1H
BEGIN:VTIMEZONE
TZID:Pacific/Auckland
BEGIN:STANDARD
TZOFFSETFROM:+1300
TZOFFSETTO:+1200
TZNAME:NZST
DTSTART:20220402T140000
END:STANDARD
BEGIN:DAYLIGHT
TZOFFSETFROM:+1200
TZOFFSETTO:+1300
TZNAME:NZDT
DTSTART:20220924T140000
END:DAYLIGHT
BEGIN:STANDARD
TZOFFSETFROM:+1300
TZOFFSETTO:+1200
TZNAME:NZST
DTSTART:20230401T140000
END:STANDARD
BEGIN:DAYLIGHT
TZOFFSETFROM:+1200
TZOFFSETTO:+1300
TZNAME:NZDT
DTSTART:20230923T140000
END:DAYLIGHT
BEGIN:STANDARD
TZOFFSETFROM:+1300
TZOFFSETTO:+1200
TZNAME:NZST
DTSTART:20240406T140000
END:STANDARD
BEGIN:DAYLIGHT
TZOFFSETFROM:+1200
TZOFFSETTO:+1300
TZNAME:NZDT
DTSTART:20240928T140000
END:DAYLIGHT
END:VTIMEZONE
BEGIN:VEVENT
DTSTART;TZID=Pacific/Auckland:20230306T080000
DTEND;TZID=Pacific/Auckland:20230501T130000
DTSTAMP:20260425T144311
CREATED:20230316T201838Z
LAST-MODIFIED:20230316T201838Z
UID:7521-1678089600-1682946000@terauora.com
SUMMARY:Māori Community Suicide Prevention Fund Applications open
DESCRIPTION:Suicide has a long-lasting and far-reaching impact on the lives of many people in New Zealand: individuals\, their whānau and families\, friends\, peers\, colleagues\, hapū\, iwi and wider communities. Every year\, hundreds of people die by suicide. In 2022\, 538 people died by suicide in Aotearoa New Zealand (a rate of 10.2 per 100\,000) (Te Whatu Ora – Health NZ\, 2022) \nPreventing suicide is everybody’s responsibility (Te Rau Ora\, 2017). Building the capacity and capability in Māori communities\, and whānau regarding adaptive strategies and resilience to prevent suicide is a core goal of Te Rau Ora (2019). Developing and fostering collaboration\, learning\, innovation and shared leadership to build wellbeing to prevent suicide requires an assertive approach ready to reach and respond to Māori communities.
URL:https://terauora.com/event/maori-community-suicide-prevention-fund-applications-open/
CATEGORIES:Funding
END:VEVENT
BEGIN:VEVENT
DTSTART;TZID=Pacific/Auckland:20230405T143000
DTEND;TZID=Pacific/Auckland:20230405T153000
DTSTAMP:20260425T144311
CREATED:20230316T202751Z
LAST-MODIFIED:20230316T202751Z
UID:7525-1680705000-1680708600@terauora.com
SUMMARY:Help us shape harm reduction and a Māori peer workforce framework
DESCRIPTION:Do you or someone in your whānau use alcohol or other drugs? \nOr are you a kaimahi Māori who supports people who use alcohol and other drugs using a harm reduction approach? \nWe need your input! \nTe Rau Ora and NZ Drug Foundation would love to hear your ideas and input about: \nThe information\, tools\, and support that are needed to help people who don’t want to be abstinent from alcohol and other drugs live healthy and successful lives.\nHow Te Ao Māori can be incorporated into the addictions peer workforce.\nWe’re running a series of hui to get ideas and input from people who use drugs\, their whānau\, and kaimahi who support them. \nWe’re especially interested in input from Māori on a peer workforce framework. \nThe ideas from these hui will be included in new guidance for the addictions sector and a new Māori peer pathway framework. \nLunch will be provided. \nA small koha will be provided for participants who are attending outside of a professional capacity.
URL:https://terauora.com/event/maori-peer-workforce-framework/
CATEGORIES:Online
ATTACH;FMTTYPE=image/jpeg:https://terauora.com/wp-content/uploads/2023/03/336281505_223221270273730_3333916253054297649_n.jpg
END:VEVENT
END:VCALENDAR