BEGIN:VCALENDAR
VERSION:2.0
PRODID:-//Te Rau Ora - ECPv6.15.20//NONSGML v1.0//EN
CALSCALE:GREGORIAN
METHOD:PUBLISH
X-WR-CALNAME:Te Rau Ora
X-ORIGINAL-URL:https://terauora.com
X-WR-CALDESC:Events for Te Rau Ora
REFRESH-INTERVAL;VALUE=DURATION:PT1H
X-Robots-Tag:noindex
X-PUBLISHED-TTL:PT1H
BEGIN:VTIMEZONE
TZID:Pacific/Auckland
BEGIN:STANDARD
TZOFFSETFROM:+1300
TZOFFSETTO:+1200
TZNAME:NZST
DTSTART:20220402T140000
END:STANDARD
BEGIN:DAYLIGHT
TZOFFSETFROM:+1200
TZOFFSETTO:+1300
TZNAME:NZDT
DTSTART:20220924T140000
END:DAYLIGHT
BEGIN:STANDARD
TZOFFSETFROM:+1300
TZOFFSETTO:+1200
TZNAME:NZST
DTSTART:20230401T140000
END:STANDARD
BEGIN:DAYLIGHT
TZOFFSETFROM:+1200
TZOFFSETTO:+1300
TZNAME:NZDT
DTSTART:20230923T140000
END:DAYLIGHT
BEGIN:STANDARD
TZOFFSETFROM:+1300
TZOFFSETTO:+1200
TZNAME:NZST
DTSTART:20240406T140000
END:STANDARD
BEGIN:DAYLIGHT
TZOFFSETFROM:+1200
TZOFFSETTO:+1300
TZNAME:NZDT
DTSTART:20240928T140000
END:DAYLIGHT
END:VTIMEZONE
BEGIN:VEVENT
DTSTART;TZID=Pacific/Auckland:20230703T100000
DTEND;TZID=Pacific/Auckland:20230704T160000
DTSTAMP:20260424T013833
CREATED:20230628T225451Z
LAST-MODIFIED:20230628T225623Z
UID:7740-1688378400-1688486400@terauora.com
SUMMARY:Tiakina Te Āhuru Mōwai - Kirikiriroa - Hamilton
DESCRIPTION:Are you a frontline worker\, a health professional or practitioner of a service who supports Women and their whānau? \nCould you say that your practice or service ensures an approach where women and their whānau are safe from mental distress\, suicide\, family violence? \nIf these questions have prompted your interest – you will be interested in attending this wānanga. \nTiakina te Āhuru Mōwai Wananga. \nWe understand women may present to various agencies with different physical\, mental health problems\, and maybe screened about family violence. Yet most protocols will not ascertain risk of self-harm and suicide or have a consideration of her mental health or that of her whānau. Nor recognise that the help-seeking behaviour may be a sign of heightened risk. \nThe wānanga is built on the practice evidence of Māori experts who have dedicated careers to working with Māori women and their whānau. The rationale for this program was informed through a workforce needs analyses of mental health and addiction workers\, family violence and social service agencies. \n(Please be aware the content of the wānanga can be triggering for some) \nWānanga Details \nDelivered by Kirimatao Paipa & Karina Cootes. It will begin at 10am each day and finish at 4pm. There are only 30 spaces available.
URL:https://terauora.com/event/tiakina-te-ahuru-mowai-kirikiriroa-hamilton-2/
LOCATION:Te Rau Ora Kirikiriroa Office\, 233 Anglesea Street\, Hamilton\, Waikato\, 3200\, New Zealand
CATEGORIES:Wānanga
ATTACH;FMTTYPE=image/png:https://terauora.com/wp-content/uploads/2022/05/tiakina-te-ahuru-mowai-sqr.png
END:VEVENT
END:VCALENDAR