BEGIN:VCALENDAR
VERSION:2.0
PRODID:-//Te Rau Ora - ECPv6.15.20//NONSGML v1.0//EN
CALSCALE:GREGORIAN
METHOD:PUBLISH
X-WR-CALNAME:Te Rau Ora
X-ORIGINAL-URL:https://terauora.com
X-WR-CALDESC:Events for Te Rau Ora
REFRESH-INTERVAL;VALUE=DURATION:PT1H
X-Robots-Tag:noindex
X-PUBLISHED-TTL:PT1H
BEGIN:VTIMEZONE
TZID:Pacific/Auckland
BEGIN:STANDARD
TZOFFSETFROM:+1300
TZOFFSETTO:+1200
TZNAME:NZST
DTSTART:20220402T140000
END:STANDARD
BEGIN:DAYLIGHT
TZOFFSETFROM:+1200
TZOFFSETTO:+1300
TZNAME:NZDT
DTSTART:20220924T140000
END:DAYLIGHT
BEGIN:STANDARD
TZOFFSETFROM:+1300
TZOFFSETTO:+1200
TZNAME:NZST
DTSTART:20230401T140000
END:STANDARD
BEGIN:DAYLIGHT
TZOFFSETFROM:+1200
TZOFFSETTO:+1300
TZNAME:NZDT
DTSTART:20230923T140000
END:DAYLIGHT
BEGIN:STANDARD
TZOFFSETFROM:+1300
TZOFFSETTO:+1200
TZNAME:NZST
DTSTART:20240406T140000
END:STANDARD
BEGIN:DAYLIGHT
TZOFFSETFROM:+1200
TZOFFSETTO:+1300
TZNAME:NZDT
DTSTART:20240928T140000
END:DAYLIGHT
END:VTIMEZONE
BEGIN:VEVENT
DTSTART;TZID=Pacific/Auckland:20230613T063000
DTEND;TZID=Pacific/Auckland:20230613T090000
DTSTAMP:20260424T013840
CREATED:20230608T220528Z
LAST-MODIFIED:20230608T220528Z
UID:7710-1686637800-1686646800@terauora.com
SUMMARY:Tāne Tika Tonu
DESCRIPTION:The recent impacts of Cyclone Gabrielle have left a lasting effect\, not only physically on our homes and communities\, but also emotionally and mentally on our people.   \nWe understand that many men in our community are facing challenges in the recovery and rebuilding process\, along with the rising costs of living.  Many may not say anything and carry on as we all do\, however we can see the pressures have taken a toll on the wellbeing of Tāne\, leading to stressful situations\, including the loss of lives through suicide. It is important that we come together as a community to tautoko and whakamana each other as Tāne.    \nJoin us in Hastings at Te Taiwhenua o Heretaunga for a nurturing breakfast dedicated to supporting our tāne. Organised by Te Taitimu Trust and in collaboration with Te Rau Ora\, this gathering aims to uplift and empower the tāne in our community.  \nWhakapiripiri mai tātou kia whakakaha I a tātou anō!  \nLet’s join together to strengthen and uplift one another!  \nFor more information contact alex.milner@terauora.com
URL:https://terauora.com/event/tane-tika-tonu-2/
LOCATION:Te Taiwhenua o Heretaunga\, 821 Orchard Road\, Hastings\, 4156\, New Zealand
ATTACH;FMTTYPE=image/png:https://terauora.com/wp-content/uploads/2023/06/tika-tonu.png
END:VEVENT
BEGIN:VEVENT
DTSTART;TZID=Pacific/Auckland:20230613T100000
DTEND;TZID=Pacific/Auckland:20230613T140000
DTSTAMP:20260424T013840
CREATED:20230602T035800Z
LAST-MODIFIED:20230628T230952Z
UID:7660-1686650400-1686664800@terauora.com
SUMMARY:Mā Purapura Mai
DESCRIPTION:Mā Purapura Mai is a Māori Leadership programme for established and emerging kaimahi Māori Leaders who have lived experience of mental distress and/or addiction. \nThe programme is made up of six wānanga that will be delivered fortnightly over a three-month period. Participants\, facilitators and advisors are all Māori with lived experience. \nRegister for the next online wānanga and details are as follows: Tuesday\, 13 June 2023 | Time: 10:00 am – 2:00 pm \nTo register and any other queries\, please contact Maddy Schwencke ✉️ maddy.schwencke@terauora.com or 📱0212285919
URL:https://terauora.com/event/ma-purapura-mai/
CATEGORIES:Training
ATTACH;FMTTYPE=image/png:https://terauora.com/wp-content/uploads/2023/06/Ma-Purapura-Mai.png
END:VEVENT
END:VCALENDAR