BEGIN:VCALENDAR
VERSION:2.0
PRODID:-//Te Rau Ora - ECPv6.15.20//NONSGML v1.0//EN
CALSCALE:GREGORIAN
METHOD:PUBLISH
X-WR-CALNAME:Te Rau Ora
X-ORIGINAL-URL:https://terauora.com
X-WR-CALDESC:Events for Te Rau Ora
REFRESH-INTERVAL;VALUE=DURATION:PT1H
X-Robots-Tag:noindex
X-PUBLISHED-TTL:PT1H
BEGIN:VTIMEZONE
TZID:Pacific/Auckland
BEGIN:STANDARD
TZOFFSETFROM:+1300
TZOFFSETTO:+1200
TZNAME:NZST
DTSTART:20220402T140000
END:STANDARD
BEGIN:DAYLIGHT
TZOFFSETFROM:+1200
TZOFFSETTO:+1300
TZNAME:NZDT
DTSTART:20220924T140000
END:DAYLIGHT
BEGIN:STANDARD
TZOFFSETFROM:+1300
TZOFFSETTO:+1200
TZNAME:NZST
DTSTART:20230401T140000
END:STANDARD
BEGIN:DAYLIGHT
TZOFFSETFROM:+1200
TZOFFSETTO:+1300
TZNAME:NZDT
DTSTART:20230923T140000
END:DAYLIGHT
BEGIN:STANDARD
TZOFFSETFROM:+1300
TZOFFSETTO:+1200
TZNAME:NZST
DTSTART:20240406T140000
END:STANDARD
BEGIN:DAYLIGHT
TZOFFSETFROM:+1200
TZOFFSETTO:+1300
TZNAME:NZDT
DTSTART:20240928T140000
END:DAYLIGHT
END:VTIMEZONE
BEGIN:VEVENT
DTSTART;TZID=Pacific/Auckland:20230502T080000
DTEND;TZID=Pacific/Auckland:20230612T120000
DTSTAMP:20260425T144217
CREATED:20230602T042655Z
LAST-MODIFIED:20230602T042655Z
UID:7673-1683014400-1686571200@terauora.com
SUMMARY:Ki Te Ara Whakamua: Māori Community Action Fund
DESCRIPTION:The Māori Community Action Fund is a one-off contestable fund established to support Māori-led solution to reduce Alcohol and Drug Harm. \nThe overall vision for the fund is Kia tika te wā; kia tika te wāhi\, kia tika te tangata; kia ora te whānau – that whānau will thrive and flourish\, with the right people\, in the right place\, at the right time. \nA key pressure on the health system is that over 50 percent of New Zealanders will experience mental distress and addiction challenges at some point in their lives.   These challenges can not only affect an individual’s ability to care for themselves but can also cause considerable concern for their whānau and loved one. \nMāori communities have demonstrated that when given the opportunity and resources to develop their own solutions\, they can mobilise quickly\, reach deep into their communities\, and achieve results that matter.  Their solutions help to reduce the risk and burden of disease while helping to achieve better and more equitable health and wellbeing outcomes for all New Zealanders. \nFor more information or to apply: https://wharetukutuku.com/aod-fund/ 
URL:https://terauora.com/event/ki-te-ara-whakamua-maori-community-action-fund/
ATTACH;FMTTYPE=image/png:https://terauora.com/wp-content/uploads/2023/06/Ki-te-ara-whakamua.png
END:VEVENT
BEGIN:VEVENT
DTSTART;TZID=Pacific/Auckland:20230504T100000
DTEND;TZID=Pacific/Auckland:20230504T160000
DTSTAMP:20260425T144217
CREATED:20230416T164047Z
LAST-MODIFIED:20230416T164047Z
UID:7546-1683194400-1683216000@terauora.com
SUMMARY:Tiakina Te Āhuru Mōwai - Whanganui
DESCRIPTION:Are you a frontline worker\, a health professional or practitioner of a service who supports Women and their whānau? \nCould you say that your practice or service ensures an approach where women and their whānau are safe from mental distress\, suicide\, family violence? \nIf these questions have prompted your interest – you will be interested in attending this wānanga. \nTiakina te Āhuru Mōwai Wananga. \nWe understand women may present to various agencies with different physical\, mental health problems\, and maybe screened about family violence. Yet most protocols will not ascertain risk of self-harm and suicide or have a consideration of her mental health or that of her whānau. Nor recognise that the help-seeking behaviour may be a sign of heightened risk. \nThe wānanga is built on the practice evidence of Māori experts who have dedicated careers to working with Māori women and their whānau. The rationale for this program was informed through a workforce needs analyses of mental health and addiction workers\, family violence and social service agencies. \n(Please be aware the content of the wānanga can be triggering for some) \nWānanga Details \nDelivered by Kirimatao Paipa & Karina Cootes. It will begin at 10am each day and finish at 4pm. There are only 30 spaces available. Secure your attendance by clicking on the register button above.
URL:https://terauora.com/event/tiakina-te-ahuru-mowai-whanganui/
LOCATION:Te Wānanga o Aotearoa\, 68 Victoria Avenue\, Whanganui\, Manawatu-Whanganui\, 4500\, New Zealand
CATEGORIES:Wānanga
ATTACH;FMTTYPE=image/jpeg:https://terauora.com/wp-content/uploads/2023/04/https___cdn.evbuc_.com_images_483444789_242880742772_1_original.jpg
END:VEVENT
END:VCALENDAR